
BEGIN:VCALENDAR
VERSION:2.0
PRODID:-//hacksw/handcal//NONSGML v1.0//EN
BEGIN:VEVENT
UID: 764@claygatescouts.org
DTSTAMP:20260420T080639Z
DTSTART;TZID=Europe/London:20270917T000000
DTEND;TZID=Europe/London:20270919T000000
SUMMARY:Surrey Scoutabout
LOCATION:
DESCRIPTION:Surrey Scoutabout
END:VEVENT
END:VCALENDAR